BEGIN:VCALENDAR
VERSION:2.0
PRODID:-//wp-events-plugin.com//7.2.3.1//EN
BEGIN:VEVENT
UID:25@hardwicktwp.com
DTSTART;VALUE=DATE:20231110
DTEND;VALUE=DATE:20231111
DTSTAMP:20231025T024906Z
URL:https://www.hardwicktwp.com/events/veterans-day/
SUMMARY:Veterans Day
DESCRIPTION:Veterans Day is a solemn and heartfelt tribute to the courageou
 s men and women who have served in the United States Armed Forces. This da
 y serves as a powerful reminder of the sacrifices made by veterans through
 out the nation's history\, honoring their unwavering dedication\, selfless
 ness\, and commitment to safeguarding the freedoms and values that we hold
  dear. It is a time to express gratitude\, reflect on their enduring brave
 ry\, and recognize the enduring legacy of those who have defended our nati
 on\, embodying the spirit of duty\, honor\, and sacrifice. Veterans Day un
 ites us in our shared respect for those who have borne the burden of prote
 cting our liberty and serves as an opportunity to reaffirm our collective 
 commitment to support and appreciate the heroes who have bravely served th
 eir country.
CATEGORIES:Events
END:VEVENT
END:VCALENDAR