BEGIN:VCALENDAR
VERSION:2.0
PRODID:-//wp-events-plugin.com//7.2.3.1//EN
BEGIN:VEVENT
UID:15@hardwicktwp.com
DTSTART:20231018T230000Z
DTEND:20231018T230000Z
DTSTAMP:20231019T025227Z
URL:https://www.hardwicktwp.com/events/township-commitee-meeting/
SUMMARY:Township Commitee Meeting
DESCRIPTION:
CATEGORIES:Meetings
END:VEVENT
END:VCALENDAR