BEGIN:VCALENDAR
VERSION:2.0
PRODID:-//wp-events-plugin.com//7.2.3.1//EN
BEGIN:VEVENT
UID:13@hardwicktwp.com
DTSTART:20231008T200000Z
DTEND:20231008T200000Z
DTSTAMP:20231019T025551Z
URL:https://www.hardwicktwp.com/events/hardwick-day-noon-2/
SUMMARY:Hardwick Day Noon
DESCRIPTION:
CATEGORIES:Events
LOCATION:Vass Farmstead 97 Stillwater Road\, 97 Stillwater Road\, Hardwick\
 , NJ 07825\, Hardwick\, New Jersey\, 07825\, New Jersey\, United States
X-APPLE-STRUCTURED-LOCATION;VALUE=URI;X-ADDRESS=97 Stillwater Road\, Hardwi
 ck\, NJ 07825\, Hardwick\, New Jersey\, 07825\, New Jersey\, United States
 ;X-APPLE-RADIUS=100;X-TITLE=Vass Farmstead 97 Stillwater Road:geo:0,0
END:VEVENT
END:VCALENDAR