BEGIN:VCALENDAR
VERSION:2.0
PRODID:-//wp-events-plugin.com//7.2.3.1//EN
BEGIN:VEVENT
UID:20@hardwicktwp.com
DTSTART;VALUE=DATE:20231101
DTEND;VALUE=DATE:20231102
DTSTAMP:20231031T015126Z
URL:https://www.hardwicktwp.com/events/first-day-of-american-indian-herita
 ge-month/
SUMMARY:First Day of American Indian Heritage Month
DESCRIPTION:
CATEGORIES:Events
END:VEVENT
END:VCALENDAR