BEGIN:VCALENDAR
VERSION:2.0
PRODID:-//wp-events-plugin.com//7.2.3.1//EN
BEGIN:VEVENT
UID:22@hardwicktwp.com
DTSTART;VALUE=DATE:20231107
DTEND;VALUE=DATE:20231108
DTSTAMP:20231031T054346Z
URL:https://www.hardwicktwp.com/events/election-day/
SUMMARY:Election Day
DESCRIPTION:
ATTACH;FMTTYPE=image/jpeg:https://www.hardwicktwp.com/wp-content/uploads/m
 ap_of_hardwick_nj-scaled.png
CATEGORIES:Events
END:VEVENT
END:VCALENDAR