BEGIN:VCALENDAR
VERSION:2.0
PRODID:-//wp-events-plugin.com//7.2.3.1//EN
BEGIN:VEVENT
UID:21@hardwicktwp.com
DTSTART;VALUE=DATE:20231105
DTEND;VALUE=DATE:20231106
DTSTAMP:20231020T023040Z
URL:https://www.hardwicktwp.com/events/daylight-saving-time-ends/
SUMMARY:Daylight Saving Time ends
DESCRIPTION:
CATEGORIES:Events
END:VEVENT
END:VCALENDAR